Workbook

Sheet Hoja1
B1: República de Panamá
B2: CONTRALORÍA GENERAL DE LA REPÚBLICA
B3: Instituto Nacional de Estadística y Censo
B5: Cuadro 5. BALANCE DE SITUACIÓN DE OTRAS SOCIEDADES FINANCIERAS (OSF), POR TIPO DE ACTOR, SEGÚN
B6: PRINCIPALES CUENTAS: PRIMER Y SEGUNDO TRIMESTRE 2026
B8: Principales cuentas | D8: Balance de situación de Otras Sociedades Financieras (OSF) (En millones de balboas)
D9: Actores financieros
A10: IFS Code | C10: 43817 | D10: Total | E10: Seguros y reaseguros | F10: Fondos de pensiones | G10: Banca internacional
D11: Primer trimestre 2026
A12: 28340....R...{Z} | B12: Activos
A13: 28342.A..R...{Z} | B13: Billetes, monedas y depósitos | C13: =+'[1]OSF 4SR'!BF187 -> 0 | D13: =+E13+F13+G13 -> 5869.9993 | E13: 1010.9953 | F13: 835.82245 | G13: 4023.1816
A14: 28342.BN.R...{Z} | B14: Valores distintos de acciones | C14: =+'[1]OSF 4SR'!BF209 -> #REF! | D14: =+E14+F14+G14 -> 6610.8292 | E14: 1292.1314 | F14: 1915.877 | G14: 3402.8209
A15: 28342.BF.R...{Z} | B15: Préstamos | C15: =+'[1]OSF 4SR'!BF219 -> 0 | D15: =+E15+F15+G15 -> 11138.195 | E15: 25.769491 | F15: 0 | G15: 11112.425
A16: 28342.C..R...{Z} | B16: Acciones y otras participaciones de capital | D16: =+E16+F16+G16 -> 702.22243 | E16: 304.63468 | F16: 169.47529 | G16: 228.11247
A17: 28342.CN.R...{Z} | B17: Reservas técnicas de seguros | C17: =+'[1]OSF 4SR'!BF230 -> 0 | D17: =+E17+F17+G17 -> 167.51938 | E17: 167.51938 | F17: 0 | G17: 0
A18: 28342.CF.R...{Z} | B18: Derivados financieros | C18: =+'[1]OSF 4SR'!BF231 -> 0 | D18: =+E18+F18+G18 -> 5.8100882 | E18: 0 | F18: 0 | G18: 5.8100882
A19: 28342.D..R...{Z} | B19: Otras cuentas por cobrar | C19: =+'[1]OSF 4SR'!BF241 -> 0 | D19: =+E19+F19+G19 -> 1016.3116 | E19: 941.53374 | F19: 10.704481 | G19: 64.073396
B20: Activos no financieros | C20: =+'[1]OSF 4SR'!BF253 -> 0 | D20: =+E20+F20+G20 -> 1103.6811 | E20: 1060.5403 | F20: 0 | G20: 43.140769
B21: ACTIVOS TOTALES | D21: =SUM(D13:D20) -> 26614.568 | E21: =SUM(E13:E20) -> 4803.1243 | F21: =SUM(F13:F20) -> 2931.8792 | G21: =SUM(G13:G20) -> 18879.564
A22: 28342.DF.R...{Z} | B22: Pasivos | C22: =+'[1]OSF 4SR'!BF288 -> 70.945541
A23: 28342.EN.R...{Z} | B23: Depósitos excluidos del dinero en sentido amplio | C23: =+'[1]OSF 4SR'!BF294 -> 0 | D23: =+E23+F23+G23 -> 16421.929 | E23: 0 | F23: 0 | G23: 16421.929
A24: 28342.G..R...{Z} | B24: Valores distintos de acciones, excluidos del dinero en sentido amplio | C24: =+'[1]OSF 4SR'!BF308 -> 0 | D24: =+E24+F24+G24 -> 34.112145 | E24: 0 | F24: 0 | G24: 34.112145
A25: 28342.GN.R...{Z} | B25: Préstamos | C25: =+'[1]OSF 4SR'!BF311 -> 0 | D25: =+E25+F25+G25 -> 378.09516 | E25: 7.788433 | F25: 0 | G25: 370.30673
A26: 28342.GF.R...{Z} | B26: Reservas técnicas de seguros | D26: =+E26+F26+G26 -> 5243.4439 | E26: 2317.0449 | F26: 2926.399 | G26: 0
A27: 28342.H..R...{Z} | B27: Derivados financieros | C27: =+'[1]OSF 4SR'!BF322 -> 0 | D27: =+E27+F27+G27 -> 13.425341 | E27: 0 | F27: 0 | G27: 13.425341
A28: 28343A...R...{Z} | B28: Otras cuentas por pagar | C28: =+'[1]OSF 4SR'!BF323 -> 532.62496 | D28: =+E28+F28+G28 -> 781.53486 | E28: 585.29792 | F28: 5.4801782 | G28: 190.75676
A29: 28341J.N.R...{Z} | B29: Acciones y otras participaciones de capital | C29: =+'[1]OSF 4SR'!BF345 -> 0 | D29: =+E29+F29+G29 -> 3742.0273 | E29: 1892.993 | F29: 0 | G29: 1849.0342
B30: PASIVOS TOTALES | C30: =+'[1]OSF 4SR'!BF366 -> 0 | D30: =SUM(D23:D29) -> 26614.568 | E30: =SUM(E23:E29) -> 4803.1243 | F30: =SUM(F23:F29) -> 2931.8792 | G30: =SUM(G23:G29) -> 18879.564
D31: Segundo trimestre 2026
B32: Activos
A33: 28346.F..R...{Z} | B33: Billetes, monedas y depósitos | C33: =+'[1]OSF 4SR'!BF216 -> 0 | D33: =+E33+F33+G33 -> 5299.0108 | E33: 984.82723 | F33: 834.68732 | G33: 3479.4962
A34: 28346.GN.R...{Z} | B34: Valores distintos de acciones | C34: =+'[1]OSF 4SR'!BF238 -> 11693.442 | D34: =+E34+F34+G34 -> 6781.8959 | E34: 1345.8255 | F34: 1830.5669 | G34: 3605.5034
A35: 28346.GF.R...{Z} | B35: Préstamos | C35: =+'[1]OSF 4SR'!BF248 -> 0 | D35: =+E35+F35+G35 -> 11776.9 | E35: 30.210311 | F35: 0 | G35: 11746.69
B36: Acciones y otras participaciones de capital | D36: =+E36+F36+G36 -> 756.68289 | E36: 334.50537 | F36: 175.28119 | G36: 246.89633
A37: 28346.N..R...{Z} | B37: Reservas técnicas de seguros | C37: =+'[1]OSF 4SR'!BF259 -> 1778.708 | D37: =+E37+F37+G37 -> 166.16906 | E37: 166.16906 | F37: 0 | G37: 0
A38: 28346.NN.R...{Z} | B38: Derivados financieros | C38: =+'[1]OSF 4SR'!BF260 -> 1778.708 | D38: =+E38+F38+G38 -> 4.5095265 | E38: 0 | F38: 0 | G38: 4.5095265
A39: 28346.NF.R...{Z} | B39: Otras cuentas por cobrar | C39: =+'[1]OSF 4SR'!BF270 -> 0 | D39: =+E39+F39+G39 -> 1202.5708 | E39: 1063.2272 | F39: 12.562466 | G39: 126.78106
A40: 28346.ON.R...{Z} | B40: Activos no financieros | C40: =+'[1]OSF 4SR'!BF282 -> 267.81101 | D40: =+E40+F40+G40 -> 1072.9235 | E40: 1030.4796 | F40: 0 | G40: 42.443889
B41: ACTIVOS TOTALES | D41: =SUM(D33:D40) -> 27060.663 | E41: =SUM(E33:E40) -> 4955.2443 | F41: =SUM(F33:F40) -> 2853.0979 | G41: =SUM(G33:G40) -> 19252.32
A42: 28347B...R...{Z} | B42: Pasivos | C42: =+'[1]OSF 4SR'!BF317 -> 1060.8928
...

Sheet Grafico
B4: Seguros y reaseguros | C4: Fondos de pensiones | D4: Banca internacional
A5: Primer trimestre | B5: =+Hoja1!E30 -> 4803.1243 | C5: =+Hoja1!F30 -> 2931.8792 | D5: =+Hoja1!G30 -> 18879.564
A6: Segundo trimestre | B6: =+Hoja1!E50 -> 4955.2443 | C6: =+Hoja1!F50 -> 2853.0979 | D6: =+Hoja1!G50 -> 19252.32
